BEGIN:VCALENDAR
VERSION:2.0
PRODID:-// - ECPv4.9.9//NONSGML v1.0//EN
CALSCALE:GREGORIAN
METHOD:PUBLISH
X-ORIGINAL-URL:http://tribal-fitness.com
X-WR-CALDESC:Events for 
BEGIN:VTIMEZONE
TZID:America/Phoenix
BEGIN:STANDARD
TZOFFSETFROM:-0700
TZOFFSETTO:-0700
TZNAME:MST
DTSTART:20180101T000000
END:STANDARD
END:VTIMEZONE
BEGIN:VEVENT
DTSTART;VALUE=DATE:20181221
DTEND;VALUE=DATE:20181222
DTSTAMP:20260424T095712
CREATED:20181217T035852Z
LAST-MODIFIED:20181217T035852Z
UID:8014-1545350400-1545436799@tribal-fitness.com
SUMMARY:Friday December 21\, 2018
DESCRIPTION:Strength:\nDeadlift 3@55%\, 3@60%\, 3@65%\, 3@70%\, 3@75% \nWOD:\nBike .5 miles\n30 thruster (45/35)\nRow 400m\n20 thruster (45/35)\nRun 200m\n10 thruster (45/35) \n
URL:http://tribal-fitness.com/event/friday-december-21-2018/
CATEGORIES:WOD
END:VEVENT
END:VCALENDAR