BEGIN:VCALENDAR
VERSION:2.0
PRODID:-// - ECPv4.9.9//NONSGML v1.0//EN
CALSCALE:GREGORIAN
METHOD:PUBLISH
X-ORIGINAL-URL:http://tribal-fitness.com
X-WR-CALDESC:Events for 
BEGIN:VTIMEZONE
TZID:America/Phoenix
BEGIN:STANDARD
TZOFFSETFROM:-0700
TZOFFSETTO:-0700
TZNAME:MST
DTSTART:20190101T000000
END:STANDARD
END:VTIMEZONE
BEGIN:VEVENT
DTSTART;VALUE=DATE:20190111
DTEND;VALUE=DATE:20190112
DTSTAMP:20260424T084130
CREATED:20190107T052425Z
LAST-MODIFIED:20190107T052425Z
UID:8080-1547164800-1547251199@tribal-fitness.com
SUMMARY:Friday January 11\, 2019
DESCRIPTION:Strength:\n3-3-3-3 Bench press \nWOD:\n8 minute AMRAP\n8 handstand push up\n12 wall ball (20/14)\n40 double unders \n
URL:http://tribal-fitness.com/event/friday-january-11-2019/
CATEGORIES:WOD
END:VEVENT
END:VCALENDAR