BEGIN:VCALENDAR
VERSION:2.0
PRODID:-// - ECPv4.9.9//NONSGML v1.0//EN
CALSCALE:GREGORIAN
METHOD:PUBLISH
X-ORIGINAL-URL:http://tribal-fitness.com
X-WR-CALDESC:Events for 
BEGIN:VTIMEZONE
TZID:America/Phoenix
BEGIN:STANDARD
TZOFFSETFROM:-0700
TZOFFSETTO:-0700
TZNAME:MST
DTSTART:20200101T000000
END:STANDARD
END:VTIMEZONE
BEGIN:VEVENT
DTSTART;VALUE=DATE:20200117
DTEND;VALUE=DATE:20200118
DTSTAMP:20260423T185916
CREATED:20200113T033203Z
LAST-MODIFIED:20200113T033203Z
UID:9225-1579219200-1579305599@tribal-fitness.com
SUMMARY:Friday January 17\, 2020
DESCRIPTION:Strength (20:00):\nDeadlift – 3X5  \nWOD (17:00):\n3X\n5 front squat (135/95)\n10 handstand push up\n15 toes to bar\nRest 1:00 \n
URL:http://tribal-fitness.com/event/friday-january-17-2020/
CATEGORIES:WOD
END:VEVENT
END:VCALENDAR