BEGIN:VCALENDAR
VERSION:2.0
PRODID:-// - ECPv4.9.9//NONSGML v1.0//EN
CALSCALE:GREGORIAN
METHOD:PUBLISH
X-ORIGINAL-URL:http://tribal-fitness.com
X-WR-CALDESC:Events for 
BEGIN:VTIMEZONE
TZID:America/Phoenix
BEGIN:STANDARD
TZOFFSETFROM:-0700
TZOFFSETTO:-0700
TZNAME:MST
DTSTART:20190101T000000
END:STANDARD
END:VTIMEZONE
BEGIN:VEVENT
DTSTART;VALUE=DATE:20190705
DTEND;VALUE=DATE:20190706
DTSTAMP:20260424T031501
CREATED:20190701T054353Z
LAST-MODIFIED:20190701T054353Z
UID:8637-1562284800-1562371199@tribal-fitness.com
SUMMARY:Friday July 5\, 2019
DESCRIPTION:Strength (20:00):\n4:00 movement review and instruction\n2-2-2-2 turkish get ups (1 per side)\n6-6-6-6 windmill (3 per side) \nWOD (20:00):\n75 calorie row buy in\n4X\n15 deadlift (155/105)\n10 handstand push up \n
URL:http://tribal-fitness.com/event/friday-july-5-2019/
CATEGORIES:WOD
END:VEVENT
END:VCALENDAR