BEGIN:VCALENDAR
VERSION:2.0
PRODID:-// - ECPv4.9.9//NONSGML v1.0//EN
CALSCALE:GREGORIAN
METHOD:PUBLISH
X-ORIGINAL-URL:http://tribal-fitness.com
X-WR-CALDESC:Events for 
BEGIN:VTIMEZONE
TZID:America/Phoenix
BEGIN:STANDARD
TZOFFSETFROM:-0700
TZOFFSETTO:-0700
TZNAME:MST
DTSTART:20190101T000000
END:STANDARD
END:VTIMEZONE
BEGIN:VEVENT
DTSTART;VALUE=DATE:20190628
DTEND;VALUE=DATE:20190629
DTSTAMP:20260424T031805
CREATED:20190624T072628Z
LAST-MODIFIED:20190624T072628Z
UID:8616-1561680000-1561766399@tribal-fitness.com
SUMMARY:Friday June 28\, 2019
DESCRIPTION:Strength (20:00):\nRomanian Deadlift (RDL) – 8-8-8 \nWOD (17:00):\n2X\n10 thruster (95/65)\n20 dumbbell snatch (50/35)\n10 front squat (95/65)\n20 calorie bike/row (alternate for 1 round of each)\n10 push press (95/65) \n
URL:http://tribal-fitness.com/event/friday-june-28-2019/
CATEGORIES:WOD
END:VEVENT
END:VCALENDAR