BEGIN:VCALENDAR
VERSION:2.0
PRODID:-// - ECPv4.9.9//NONSGML v1.0//EN
CALSCALE:GREGORIAN
METHOD:PUBLISH
X-ORIGINAL-URL:http://tribal-fitness.com
X-WR-CALDESC:Events for 
BEGIN:VTIMEZONE
TZID:America/Phoenix
BEGIN:STANDARD
TZOFFSETFROM:-0700
TZOFFSETTO:-0700
TZNAME:MST
DTSTART:20190101T000000
END:STANDARD
END:VTIMEZONE
BEGIN:VEVENT
DTSTART;VALUE=DATE:20190315
DTEND;VALUE=DATE:20190316
DTSTAMP:20260424T061839
CREATED:20190311T031040Z
LAST-MODIFIED:20190309T030721Z
UID:8285-1552608000-1552694399@tribal-fitness.com
SUMMARY:Friday March 15\, 2019
DESCRIPTION:WOD (25:00):\n5:00 AMRAP\n10 toes to bar\n10 KB hip extension (53/35) \n\nRest 5:00 –\n\n4X\n5 pull up\n10 push up\n15 squat \n\nRest 4:00 –\n\n5X\n5 deadlift (185/125)\n5 wall ball (20/14)\n*30:00 time cap \n
URL:http://tribal-fitness.com/event/friday-march-15-2019/
CATEGORIES:WOD
END:VEVENT
END:VCALENDAR