BEGIN:VCALENDAR
VERSION:2.0
PRODID:-// - ECPv4.9.9//NONSGML v1.0//EN
CALSCALE:GREGORIAN
METHOD:PUBLISH
X-ORIGINAL-URL:http://tribal-fitness.com
X-WR-CALDESC:Events for 
BEGIN:VTIMEZONE
TZID:America/Phoenix
BEGIN:STANDARD
TZOFFSETFROM:-0700
TZOFFSETTO:-0700
TZNAME:MST
DTSTART:20190101T000000
END:STANDARD
END:VTIMEZONE
BEGIN:VEVENT
DTSTART;VALUE=DATE:20190531
DTEND;VALUE=DATE:20190601
DTSTAMP:20260424T031628
CREATED:20190527T045347Z
LAST-MODIFIED:20190527T045347Z
UID:8520-1559260800-1559347199@tribal-fitness.com
SUMMARY:Friday May 31\, 2019
DESCRIPTION:Strength (22:00):\nBack squat 3×5  \nWOD (8:00):\n6 minute AMRAP\n10 jumping lunges (5 per side)\n5 handstand push ups \n
URL:http://tribal-fitness.com/event/friday-may-31-2019/
CATEGORIES:WOD
END:VEVENT
END:VCALENDAR