BEGIN:VCALENDAR
VERSION:2.0
PRODID:-// - ECPv4.9.9//NONSGML v1.0//EN
CALSCALE:GREGORIAN
METHOD:PUBLISH
X-ORIGINAL-URL:http://tribal-fitness.com
X-WR-CALDESC:Events for 
BEGIN:VTIMEZONE
TZID:America/Phoenix
BEGIN:STANDARD
TZOFFSETFROM:-0700
TZOFFSETTO:-0700
TZNAME:MST
DTSTART:20190101T000000
END:STANDARD
END:VTIMEZONE
BEGIN:VEVENT
DTSTART;VALUE=DATE:20191122
DTEND;VALUE=DATE:20191123
DTSTAMP:20260423T215416
CREATED:20191118T043825Z
LAST-MODIFIED:20191118T043825Z
UID:9050-1574380800-1574467199@tribal-fitness.com
SUMMARY:Friday November 22\, 2019
DESCRIPTION:Strength (18:00):\nBench Press – 3X5 \nWOD (18:00):\n“Rowling for burpee box jumps” \nWith a partner:    Row 1600 meters \nEach partner rows to exact multiple of 100m then does 1 burpee box jump (24/20) (not step ups) for each meter over/under the 100 mark.  After last burpee box jump\, tag partner for them to start next 100m.  Record total time. \n
URL:http://tribal-fitness.com/event/friday-november-22-2019/
CATEGORIES:WOD
END:VEVENT
END:VCALENDAR