BEGIN:VCALENDAR
VERSION:2.0
PRODID:-// - ECPv4.9.9//NONSGML v1.0//EN
CALSCALE:GREGORIAN
METHOD:PUBLISH
X-ORIGINAL-URL:http://tribal-fitness.com
X-WR-CALDESC:Events for 
BEGIN:VTIMEZONE
TZID:America/Phoenix
BEGIN:STANDARD
TZOFFSETFROM:-0700
TZOFFSETTO:-0700
TZNAME:MST
DTSTART:20190101T000000
END:STANDARD
END:VTIMEZONE
BEGIN:VEVENT
DTSTART;VALUE=DATE:20191108
DTEND;VALUE=DATE:20191109
DTSTAMP:20260423T214843
CREATED:20191104T061740Z
LAST-MODIFIED:20191104T061740Z
UID:9019-1573171200-1573257599@tribal-fitness.com
SUMMARY:Friday November 8\, 2019
DESCRIPTION:Strength (24:00)\nHang snatch (full squat) – 2-2-2-2-2  \nWOD (12:00)\n5-4-3-2-1 bear complex (95/65)\n15-12-9-6-3 toes to bar \nBear complex – power clean\, front squat\, push press\, back squat\, push press \n
URL:http://tribal-fitness.com/event/friday-november-8-2019/
CATEGORIES:WOD
END:VEVENT
END:VCALENDAR