BEGIN:VCALENDAR
VERSION:2.0
PRODID:-// - ECPv4.9.9//NONSGML v1.0//EN
CALSCALE:GREGORIAN
METHOD:PUBLISH
X-ORIGINAL-URL:http://tribal-fitness.com
X-WR-CALDESC:Events for 
BEGIN:VTIMEZONE
TZID:America/Phoenix
BEGIN:STANDARD
TZOFFSETFROM:-0700
TZOFFSETTO:-0700
TZNAME:MST
DTSTART:20180101T000000
END:STANDARD
END:VTIMEZONE
BEGIN:VEVENT
DTSTART;VALUE=DATE:20181217
DTEND;VALUE=DATE:20181218
DTSTAMP:20260424T100043
CREATED:20181217T035015Z
LAST-MODIFIED:20181217T035015Z
UID:7998-1545004800-1545091199@tribal-fitness.com
SUMMARY:Monday December 17\, 2018
DESCRIPTION:Strength:\nPress  3@55%\, 3@60%\, 3@65%\, 3@70%\, 3@75%  \nWOD: \nThe Joker\n1-2-3-4-5-6-7-8-9-10 Toes to bar\n10-9-8-7-6-5-4-3-2-1 Deadlift (225/155) \n
URL:http://tribal-fitness.com/event/monday-december-17-2018/
CATEGORIES:WOD
END:VEVENT
END:VCALENDAR