BEGIN:VCALENDAR
VERSION:2.0
PRODID:-// - ECPv4.9.9//NONSGML v1.0//EN
CALSCALE:GREGORIAN
METHOD:PUBLISH
X-ORIGINAL-URL:http://tribal-fitness.com
X-WR-CALDESC:Events for 
BEGIN:VTIMEZONE
TZID:America/Phoenix
BEGIN:STANDARD
TZOFFSETFROM:-0700
TZOFFSETTO:-0700
TZNAME:MST
DTSTART:20190101T000000
END:STANDARD
END:VTIMEZONE
BEGIN:VEVENT
DTSTART;VALUE=DATE:20190114
DTEND;VALUE=DATE:20190115
DTSTAMP:20260424T084413
CREATED:20190114T033430Z
LAST-MODIFIED:20190114T033430Z
UID:8085-1547424000-1547510399@tribal-fitness.com
SUMMARY:Monday January 14\, 2019
DESCRIPTION:Strength:\nAlternating sets of:\nTire flips 4 x 3\nFarmer carry 4 x 40m  \nWOD:\n3X\n40m sled push (135/95)\n18 power clean (95/65) \n
URL:http://tribal-fitness.com/event/monday-january-14-2019/
CATEGORIES:WOD
END:VEVENT
END:VCALENDAR