BEGIN:VCALENDAR
VERSION:2.0
PRODID:-// - ECPv4.9.9//NONSGML v1.0//EN
CALSCALE:GREGORIAN
METHOD:PUBLISH
X-ORIGINAL-URL:http://tribal-fitness.com
X-WR-CALDESC:Events for 
BEGIN:VTIMEZONE
TZID:America/Phoenix
BEGIN:STANDARD
TZOFFSETFROM:-0700
TZOFFSETTO:-0700
TZNAME:MST
DTSTART:20190101T000000
END:STANDARD
END:VTIMEZONE
BEGIN:VEVENT
DTSTART;VALUE=DATE:20190121
DTEND;VALUE=DATE:20190122
DTSTAMP:20260424T095952
CREATED:20190121T045111Z
LAST-MODIFIED:20190121T045111Z
UID:8105-1548028800-1548115199@tribal-fitness.com
SUMMARY:Monday January 21\, 2019
DESCRIPTION:Strength:\nOverhead squat and back squat – loosen up\, do a couple sets of light weight but heavier than you use in the WOD \nWOD:\nJenny\n20 minute AMRAP\n20 overhead squat (45/35)\n20 back squat (45/35)\nRun 400m\n**Don’t drop empty bars \n
URL:http://tribal-fitness.com/event/monday-january-21-2019/
CATEGORIES:WOD
END:VEVENT
END:VCALENDAR