BEGIN:VCALENDAR
VERSION:2.0
PRODID:-// - ECPv4.9.9//NONSGML v1.0//EN
CALSCALE:GREGORIAN
METHOD:PUBLISH
X-ORIGINAL-URL:http://tribal-fitness.com
X-WR-CALDESC:Events for 
BEGIN:VTIMEZONE
TZID:America/Phoenix
BEGIN:STANDARD
TZOFFSETFROM:-0700
TZOFFSETTO:-0700
TZNAME:MST
DTSTART:20200101T000000
END:STANDARD
END:VTIMEZONE
BEGIN:VEVENT
DTSTART;VALUE=DATE:20200316
DTEND;VALUE=DATE:20200317
DTSTAMP:20260423T162039
CREATED:20200316T060836Z
LAST-MODIFIED:20200316T060836Z
UID:9403-1584316800-1584403199@tribal-fitness.com
SUMMARY:Monday March 16\, 2020
DESCRIPTION:Strength (25:00):\nBack squat – 3-3-3-3-3  \nWOD (22:00): \n3X\nRun 800m\n15 pull up\n15 toes to bar\n**20:00 time cap \n
URL:http://tribal-fitness.com/event/monday-march-16-2020/
CATEGORIES:WOD
END:VEVENT
END:VCALENDAR