BEGIN:VCALENDAR
VERSION:2.0
PRODID:-// - ECPv4.9.9//NONSGML v1.0//EN
CALSCALE:GREGORIAN
METHOD:PUBLISH
X-ORIGINAL-URL:http://tribal-fitness.com
X-WR-CALDESC:Events for 
BEGIN:VTIMEZONE
TZID:America/Phoenix
BEGIN:STANDARD
TZOFFSETFROM:-0700
TZOFFSETTO:-0700
TZNAME:MST
DTSTART:20190101T000000
END:STANDARD
END:VTIMEZONE
BEGIN:VEVENT
DTSTART;VALUE=DATE:20191021
DTEND;VALUE=DATE:20191022
DTSTAMP:20260423T225518
CREATED:20191021T045807Z
LAST-MODIFIED:20191021T045807Z
UID:8968-1571616000-1571702399@tribal-fitness.com
SUMMARY:Monday October 21\, 2019
DESCRIPTION:WOD (45:00): \nCF OPEN 20.2 \nRX option:  20:00 AMRAP\n4 dumbbell thruster (50’s/35’s)\n6 toes to bar\n24 double unders \n scaled option:  20:00 AMRAP\n4 dumbbell thruster (35’s/20’s)\n6 hanging knee raises\n24 single unders \n
URL:http://tribal-fitness.com/event/monday-october-21-2019/
CATEGORIES:WOD
END:VEVENT
END:VCALENDAR