BEGIN:VCALENDAR
VERSION:2.0
PRODID:-// - ECPv4.9.9//NONSGML v1.0//EN
CALSCALE:GREGORIAN
METHOD:PUBLISH
X-ORIGINAL-URL:http://tribal-fitness.com
X-WR-CALDESC:Events for 
BEGIN:VTIMEZONE
TZID:America/Phoenix
BEGIN:STANDARD
TZOFFSETFROM:-0700
TZOFFSETTO:-0700
TZNAME:MST
DTSTART:20190101T000000
END:STANDARD
END:VTIMEZONE
BEGIN:VEVENT
DTSTART;VALUE=DATE:20190411
DTEND;VALUE=DATE:20190412
DTSTAMP:20260424T051912
CREATED:20190408T053142Z
LAST-MODIFIED:20190408T053142Z
UID:8364-1554940800-1555027199@tribal-fitness.com
SUMMARY:Thursday April 11\, 2019
DESCRIPTION:Strength (28:00):\nClean and Jerk – singles building to PR attempt \nWOD (10:00):\n30-20-10\nKettlebell swing (53/35)\nBurpee \n
URL:http://tribal-fitness.com/event/thursday-april-11-2019/
CATEGORIES:WOD
END:VEVENT
END:VCALENDAR