BEGIN:VCALENDAR
VERSION:2.0
PRODID:-// - ECPv4.9.9//NONSGML v1.0//EN
CALSCALE:GREGORIAN
METHOD:PUBLISH
X-ORIGINAL-URL:http://tribal-fitness.com
X-WR-CALDESC:Events for 
BEGIN:VTIMEZONE
TZID:America/Phoenix
BEGIN:STANDARD
TZOFFSETFROM:-0700
TZOFFSETTO:-0700
TZNAME:MST
DTSTART:20190101T000000
END:STANDARD
END:VTIMEZONE
BEGIN:VEVENT
DTSTART;VALUE=DATE:20190425
DTEND;VALUE=DATE:20190426
DTSTAMP:20260424T051412
CREATED:20190422T110854Z
LAST-MODIFIED:20190422T110854Z
UID:8407-1556150400-1556236799@tribal-fitness.com
SUMMARY:Thursday April 25\, 2019
DESCRIPTION:Strength (22:00):\nDumbbell rows – 3 sets to failure \nWOD (15:00):\n4X\n15 wall ball (20/14)\n10 deadlift (225/155) \n
URL:http://tribal-fitness.com/event/thursday-april-25-2019/
CATEGORIES:WOD
END:VEVENT
END:VCALENDAR