BEGIN:VCALENDAR
VERSION:2.0
PRODID:-// - ECPv4.9.9//NONSGML v1.0//EN
CALSCALE:GREGORIAN
METHOD:PUBLISH
X-ORIGINAL-URL:http://tribal-fitness.com
X-WR-CALDESC:Events for 
BEGIN:VTIMEZONE
TZID:America/Phoenix
BEGIN:STANDARD
TZOFFSETFROM:-0700
TZOFFSETTO:-0700
TZNAME:MST
DTSTART:20200101T000000
END:STANDARD
END:VTIMEZONE
BEGIN:VEVENT
DTSTART;VALUE=DATE:20200116
DTEND;VALUE=DATE:20200117
DTSTAMP:20260423T191001
CREATED:20200113T033055Z
LAST-MODIFIED:20200113T033055Z
UID:9223-1579132800-1579219199@tribal-fitness.com
SUMMARY:Thursday January 16\, 2020
DESCRIPTION:Strength (20:00):\nBench Press – 3X5  \nWOD (12:00):\nGrace\n30 clean and jerk (135/95)\n7:00 time cap (adjust weight to finish under cap as needed) \n
URL:http://tribal-fitness.com/event/thursday-january-16-2020/
CATEGORIES:WOD
END:VEVENT
END:VCALENDAR