BEGIN:VCALENDAR
VERSION:2.0
PRODID:-// - ECPv4.9.9//NONSGML v1.0//EN
CALSCALE:GREGORIAN
METHOD:PUBLISH
X-ORIGINAL-URL:http://tribal-fitness.com
X-WR-CALDESC:Events for 
BEGIN:VTIMEZONE
TZID:America/Phoenix
BEGIN:STANDARD
TZOFFSETFROM:-0700
TZOFFSETTO:-0700
TZNAME:MST
DTSTART:20190101T000000
END:STANDARD
END:VTIMEZONE
BEGIN:VEVENT
DTSTART;VALUE=DATE:20190725
DTEND;VALUE=DATE:20190726
DTSTAMP:20260424T022406
CREATED:20190722T053502Z
LAST-MODIFIED:20190722T053502Z
UID:8695-1564012800-1564099199@tribal-fitness.com
SUMMARY:Thursday July 25\, 2019
DESCRIPTION:Strength (22:00):\nClean and jerk (2 cleans + 1 jerk) (full squat) 5 sets  \nWOD (18:00):\n14:00 AMRAP\n12 jumping lunges\n9 deadlift (225/155)\n6 burpee bar muscle up \n
URL:http://tribal-fitness.com/event/thursday-july-25-2019/
CATEGORIES:WOD
END:VEVENT
END:VCALENDAR