BEGIN:VCALENDAR
VERSION:2.0
PRODID:-// - ECPv4.9.9//NONSGML v1.0//EN
CALSCALE:GREGORIAN
METHOD:PUBLISH
X-ORIGINAL-URL:http://tribal-fitness.com
X-WR-CALDESC:Events for 
BEGIN:VTIMEZONE
TZID:America/Phoenix
BEGIN:STANDARD
TZOFFSETFROM:-0700
TZOFFSETTO:-0700
TZNAME:MST
DTSTART:20190101T000000
END:STANDARD
END:VTIMEZONE
BEGIN:VEVENT
DTSTART;VALUE=DATE:20190627
DTEND;VALUE=DATE:20190628
DTSTAMP:20260424T032014
CREATED:20190624T072350Z
LAST-MODIFIED:20190624T072350Z
UID:8610-1561593600-1561679999@tribal-fitness.com
SUMMARY:Thursday June 27\, 2019
DESCRIPTION:WOD (33:00):\nChelsea\n30 minute EMOM\n5 pull up\n10 push up\n15 air squat \n
URL:http://tribal-fitness.com/event/thursday-june-27-2019/
CATEGORIES:WOD
END:VEVENT
END:VCALENDAR