BEGIN:VCALENDAR
VERSION:2.0
PRODID:-// - ECPv4.9.9//NONSGML v1.0//EN
CALSCALE:GREGORIAN
METHOD:PUBLISH
X-ORIGINAL-URL:http://tribal-fitness.com
X-WR-CALDESC:Events for 
BEGIN:VTIMEZONE
TZID:America/Phoenix
BEGIN:STANDARD
TZOFFSETFROM:-0700
TZOFFSETTO:-0700
TZNAME:MST
DTSTART:20200101T000000
END:STANDARD
END:VTIMEZONE
BEGIN:VEVENT
DTSTART;VALUE=DATE:20200312
DTEND;VALUE=DATE:20200313
DTSTAMP:20260423T162354
CREATED:20200309T034028Z
LAST-MODIFIED:20200306T035119Z
UID:9394-1583971200-1584057599@tribal-fitness.com
SUMMARY:Thursday March 12\, 2020
DESCRIPTION:Strength (20:00):\nDeadlift – 5-5-5  \nWOD (18:00):\n35 calorie row\n35 push press (75/55)\n35 box jumps (24/20)\n35 push ups\n35 abmat sit ups\n35 burpees\n35 toes to bar\n**15:00 time cap \n
URL:http://tribal-fitness.com/event/thursday-march-12-2020/
CATEGORIES:WOD
END:VEVENT
END:VCALENDAR