BEGIN:VCALENDAR
VERSION:2.0
PRODID:-// - ECPv4.9.9//NONSGML v1.0//EN
CALSCALE:GREGORIAN
METHOD:PUBLISH
X-ORIGINAL-URL:http://tribal-fitness.com
X-WR-CALDESC:Events for 
BEGIN:VTIMEZONE
TZID:America/Phoenix
BEGIN:STANDARD
TZOFFSETFROM:-0700
TZOFFSETTO:-0700
TZNAME:MST
DTSTART:20200101T000000
END:STANDARD
END:VTIMEZONE
BEGIN:VEVENT
DTSTART;VALUE=DATE:20200319
DTEND;VALUE=DATE:20200320
DTSTAMP:20260423T161900
CREATED:20200316T061501Z
LAST-MODIFIED:20200316T061501Z
UID:9415-1584576000-1584662399@tribal-fitness.com
SUMMARY:Thursday March 19\, 2020
DESCRIPTION:Strength (25:00):\nDeadlift – 3-3-3-3-3  \nWOD (9:00):\n6 minute AMRAP of\n8 thruster (95/65)\n50 double unders \n
URL:http://tribal-fitness.com/event/thursday-march-19-2020/
CATEGORIES:WOD
END:VEVENT
END:VCALENDAR