BEGIN:VCALENDAR
VERSION:2.0
PRODID:-// - ECPv4.9.9//NONSGML v1.0//EN
CALSCALE:GREGORIAN
METHOD:PUBLISH
X-ORIGINAL-URL:http://tribal-fitness.com
X-WR-CALDESC:Events for 
BEGIN:VTIMEZONE
TZID:America/Phoenix
BEGIN:STANDARD
TZOFFSETFROM:-0700
TZOFFSETTO:-0700
TZNAME:MST
DTSTART:20190101T000000
END:STANDARD
END:VTIMEZONE
BEGIN:VEVENT
DTSTART;VALUE=DATE:20190409
DTEND;VALUE=DATE:20190410
DTSTAMP:20260424T051435
CREATED:20190408T052522Z
LAST-MODIFIED:20190408T052707Z
UID:8355-1554768000-1554854399@tribal-fitness.com
SUMMARY:Tuesday April 9\, 2019
DESCRIPTION:Strength (22:00):\nRing Rows\n5 sets of 5   \nWOD (12:00):\n8:00 AMRAP\n2+10\, 4+20\, 6+30\, 8+40\, 10+50…\nHandstand push up\nDouble under \n
URL:http://tribal-fitness.com/event/tuesday-april-9-2019/
CATEGORIES:WOD
END:VEVENT
END:VCALENDAR