BEGIN:VCALENDAR
VERSION:2.0
PRODID:-// - ECPv4.9.9//NONSGML v1.0//EN
CALSCALE:GREGORIAN
METHOD:PUBLISH
X-ORIGINAL-URL:http://tribal-fitness.com
X-WR-CALDESC:Events for 
BEGIN:VTIMEZONE
TZID:America/Phoenix
BEGIN:STANDARD
TZOFFSETFROM:-0700
TZOFFSETTO:-0700
TZNAME:MST
DTSTART:20180101T000000
END:STANDARD
END:VTIMEZONE
BEGIN:VEVENT
DTSTART;VALUE=DATE:20181218
DTEND;VALUE=DATE:20181219
DTSTAMP:20260424T100131
CREATED:20181217T035136Z
LAST-MODIFIED:20181217T035136Z
UID:8000-1545091200-1545177599@tribal-fitness.com
SUMMARY:Tuesday December 18\, 2018
DESCRIPTION:Strength:\nEstablish a 1RM clean and jerk\nRecord weight on whiteboard  \nWOD:\n4:00 AMRAP\nBurpees \n
URL:http://tribal-fitness.com/event/tuesday-december-18-2018/
CATEGORIES:WOD
END:VEVENT
END:VCALENDAR