BEGIN:VCALENDAR
VERSION:2.0
PRODID:-// - ECPv4.9.9//NONSGML v1.0//EN
CALSCALE:GREGORIAN
METHOD:PUBLISH
X-ORIGINAL-URL:http://tribal-fitness.com
X-WR-CALDESC:Events for 
BEGIN:VTIMEZONE
TZID:America/Phoenix
BEGIN:STANDARD
TZOFFSETFROM:-0700
TZOFFSETTO:-0700
TZNAME:MST
DTSTART:20190101T000000
END:STANDARD
END:VTIMEZONE
BEGIN:VEVENT
DTSTART;VALUE=DATE:20190108
DTEND;VALUE=DATE:20190109
DTSTAMP:20260424T084510
CREATED:20190107T051659Z
LAST-MODIFIED:20190107T051659Z
UID:8066-1546905600-1546991999@tribal-fitness.com
SUMMARY:Tuesday January 8\, 2019
DESCRIPTION:Strength:\n3-3-3-3 Power clean  \nWOD:\n8 minute EMOM\n3 clean & jerk (full squat cleans)\n**same weight all sets\, record weight for score \n
URL:http://tribal-fitness.com/event/tuesday-january-8-2019/
CATEGORIES:WOD
END:VEVENT
END:VCALENDAR