BEGIN:VCALENDAR
VERSION:2.0
PRODID:-// - ECPv4.9.9//NONSGML v1.0//EN
CALSCALE:GREGORIAN
METHOD:PUBLISH
X-ORIGINAL-URL:http://tribal-fitness.com
X-WR-CALDESC:Events for 
BEGIN:VTIMEZONE
TZID:America/Phoenix
BEGIN:STANDARD
TZOFFSETFROM:-0700
TZOFFSETTO:-0700
TZNAME:MST
DTSTART:20190101T000000
END:STANDARD
END:VTIMEZONE
BEGIN:VEVENT
DTSTART;VALUE=DATE:20190730
DTEND;VALUE=DATE:20190731
DTSTAMP:20260424T011616
CREATED:20190729T054837Z
LAST-MODIFIED:20190729T054837Z
UID:8707-1564444800-1564531199@tribal-fitness.com
SUMMARY:Tuesday July 30\, 2019
DESCRIPTION:Strength (22:00):\nDrop snatch – 5X3  \nWOD (15:00):\n4X\n50 double unders\n15 push press (75/55)\n10 toes to bar\n**12:00 time cap \n
URL:http://tribal-fitness.com/event/tuesday-july-30-2019/
CATEGORIES:WOD
END:VEVENT
END:VCALENDAR