BEGIN:VCALENDAR
VERSION:2.0
PRODID:-// - ECPv4.9.9//NONSGML v1.0//EN
CALSCALE:GREGORIAN
METHOD:PUBLISH
X-ORIGINAL-URL:http://tribal-fitness.com
X-WR-CALDESC:Events for 
BEGIN:VTIMEZONE
TZID:America/Phoenix
BEGIN:STANDARD
TZOFFSETFROM:-0700
TZOFFSETTO:-0700
TZNAME:MST
DTSTART:20190101T000000
END:STANDARD
END:VTIMEZONE
BEGIN:VEVENT
DTSTART;VALUE=DATE:20190305
DTEND;VALUE=DATE:20190306
DTSTAMP:20260424T062021
CREATED:20190304T042431Z
LAST-MODIFIED:20190304T042431Z
UID:8250-1551744000-1551830399@tribal-fitness.com
SUMMARY:Tuesday March 5\, 2019
DESCRIPTION:Strength (20:00):\nBench Press\nWarm up: 7:00 for 5@bar\, 5@45%\, 5@60%\, 3@70%\nEvery 5:00 – 0:00 5@80%\, 5:00 5@80%\, 10:00 5@80% \nWOD (12:00):\n6:00 AMRAP\n200m run\n15 Kettlebell swings (53/35) \n
URL:http://tribal-fitness.com/event/tuesday-march-5-2019/
CATEGORIES:WOD
END:VEVENT
END:VCALENDAR