BEGIN:VCALENDAR
VERSION:2.0
PRODID:-// - ECPv4.9.9//NONSGML v1.0//EN
CALSCALE:GREGORIAN
METHOD:PUBLISH
X-ORIGINAL-URL:http://tribal-fitness.com
X-WR-CALDESC:Events for 
BEGIN:VTIMEZONE
TZID:America/Phoenix
BEGIN:STANDARD
TZOFFSETFROM:-0700
TZOFFSETTO:-0700
TZNAME:MST
DTSTART:20180101T000000
END:STANDARD
END:VTIMEZONE
BEGIN:VEVENT
DTSTART;VALUE=DATE:20181009
DTEND;VALUE=DATE:20181010
DTSTAMP:20260424T123846
CREATED:20181008T042328Z
LAST-MODIFIED:20181008T042328Z
UID:7772-1539043200-1539129599@tribal-fitness.com
SUMMARY:Tuesday October 9\, 2018
DESCRIPTION:WOD:\nKelly\n5X\nRun 400m\n30 box jumps (24/20)\n30 wall balls (20/14) \n
URL:http://tribal-fitness.com/event/tuesday-october-9-2018/
CATEGORIES:WOD
END:VEVENT
END:VCALENDAR