BEGIN:VCALENDAR
VERSION:2.0
PRODID:-// - ECPv4.9.9//NONSGML v1.0//EN
CALSCALE:GREGORIAN
METHOD:PUBLISH
X-ORIGINAL-URL:http://tribal-fitness.com
X-WR-CALDESC:Events for 
BEGIN:VTIMEZONE
TZID:America/Phoenix
BEGIN:STANDARD
TZOFFSETFROM:-0700
TZOFFSETTO:-0700
TZNAME:MST
DTSTART:20190101T000000
END:STANDARD
END:VTIMEZONE
BEGIN:VEVENT
DTSTART;VALUE=DATE:20191225
DTEND;VALUE=DATE:20191226
DTSTAMP:20260423T203432
CREATED:20191223T040335Z
LAST-MODIFIED:20191223T040335Z
UID:9154-1577232000-1577318399@tribal-fitness.com
SUMMARY:Wednesday December 25\, 2019
DESCRIPTION:The 12 days of Christmas V2 WOD:\n1 Squat clean thruster (95/65)\n2 Overhead squats (95/65)\n3 Power snatch (95/65)\n4 toes to bar\n5 wall balls (20/14)\n6 pull ups\n7 V ups\n8 lunges (4 per side)\n9 Deadlifts (95/65)\n10 one legged squats (5 per side)\n11 Burpee box jumps (24/20)\n12 handstand push ups \n
URL:http://tribal-fitness.com/event/wednesday-december-25-2019/
CATEGORIES:WOD
END:VEVENT
END:VCALENDAR