BEGIN:VCALENDAR
VERSION:2.0
PRODID:-// - ECPv4.9.9//NONSGML v1.0//EN
CALSCALE:GREGORIAN
METHOD:PUBLISH
X-ORIGINAL-URL:http://tribal-fitness.com
X-WR-CALDESC:Events for 
BEGIN:VTIMEZONE
TZID:America/Phoenix
BEGIN:STANDARD
TZOFFSETFROM:-0700
TZOFFSETTO:-0700
TZNAME:MST
DTSTART:20190101T000000
END:STANDARD
END:VTIMEZONE
BEGIN:VEVENT
DTSTART;VALUE=DATE:20191204
DTEND;VALUE=DATE:20191205
DTSTAMP:20260423T214956
CREATED:20191202T035134Z
LAST-MODIFIED:20191202T041036Z
UID:9090-1575417600-1575503999@tribal-fitness.com
SUMMARY:Wednesday December 4\, 2019
DESCRIPTION:Strength (25:00):\nPower snatch – 3-3-2-2-1-1  \nWOD (16:00):\nIn 3:00 rounds complete:\n10 toes to bar\n30 double unders\n5 power clean (155/105)\nComplete until you miss 3:00 time cap or finish 5 rounds\nNote rounds completed for score \n
URL:http://tribal-fitness.com/event/wednesday-december-4-2019/
CATEGORIES:WOD
END:VEVENT
END:VCALENDAR