BEGIN:VCALENDAR
VERSION:2.0
PRODID:-// - ECPv4.9.9//NONSGML v1.0//EN
CALSCALE:GREGORIAN
METHOD:PUBLISH
X-ORIGINAL-URL:http://tribal-fitness.com
X-WR-CALDESC:Events for 
BEGIN:VTIMEZONE
TZID:America/Phoenix
BEGIN:STANDARD
TZOFFSETFROM:-0700
TZOFFSETTO:-0700
TZNAME:MST
DTSTART:20190101T000000
END:STANDARD
END:VTIMEZONE
BEGIN:VEVENT
DTSTART;VALUE=DATE:20190320
DTEND;VALUE=DATE:20190321
DTSTAMP:20260424T062251
CREATED:20190318T044120Z
LAST-MODIFIED:20190318T044120Z
UID:8298-1553040000-1553126399@tribal-fitness.com
SUMMARY:Wednesday March 20\, 2019
DESCRIPTION:Strength (25:00):\nOverhead squat\n7:00 warm up – 5@bar\, 3@45%\, 3@55%\, 3@65%\nWorking sets – 0:00 3@75%\, 3:00 3@80%\, 6:00 2@85%\, 9:00 1@90%\, 12:00 1@95%\, 15:00 1@100+%  \nWOD (15:00):\n75 double unders\n50 wall balls (20/14)\n25 calorie row\n50 wall balls (20/14)\n75 double unders \n
URL:http://tribal-fitness.com/event/wednesday-march-20-2019/
CATEGORIES:WOD
END:VEVENT
END:VCALENDAR