BEGIN:VCALENDAR
VERSION:2.0
PRODID:-// - ECPv4.9.9//NONSGML v1.0//EN
CALSCALE:GREGORIAN
METHOD:PUBLISH
X-ORIGINAL-URL:http://tribal-fitness.com
X-WR-CALDESC:Events for 
BEGIN:VTIMEZONE
TZID:America/Phoenix
BEGIN:STANDARD
TZOFFSETFROM:-0700
TZOFFSETTO:-0700
TZNAME:MST
DTSTART:20190101T000000
END:STANDARD
END:VTIMEZONE
BEGIN:VEVENT
DTSTART;VALUE=DATE:20190529
DTEND;VALUE=DATE:20190530
DTSTAMP:20260424T032020
CREATED:20190527T044946Z
LAST-MODIFIED:20190527T044946Z
UID:8512-1559088000-1559174399@tribal-fitness.com
SUMMARY:Wednesday May 29\, 2019
DESCRIPTION:Strength (22:00):\nClean – 3-3-3-2-2  \nWOD (18:00):\nIn teams of 2 split any way:\n40 sit ups\n100 double unders\n40 DB snatches (50/35)\n50 burpees\n40 DB snatches(50/35)\n100 double unders\n40 sit ups \n
URL:http://tribal-fitness.com/event/wednesday-may-29-2019/
CATEGORIES:WOD
END:VEVENT
END:VCALENDAR