BEGIN:VCALENDAR
VERSION:2.0
PRODID:-// - ECPv4.9.9//NONSGML v1.0//EN
CALSCALE:GREGORIAN
METHOD:PUBLISH
X-ORIGINAL-URL:http://tribal-fitness.com
X-WR-CALDESC:Events for 
BEGIN:VTIMEZONE
TZID:America/Phoenix
BEGIN:STANDARD
TZOFFSETFROM:-0700
TZOFFSETTO:-0700
TZNAME:MST
DTSTART:20180101T000000
END:STANDARD
END:VTIMEZONE
BEGIN:VEVENT
DTSTART;VALUE=DATE:20181128
DTEND;VALUE=DATE:20181129
DTSTAMP:20260424T100237
CREATED:20181126T043441Z
LAST-MODIFIED:20181126T043441Z
UID:7933-1543363200-1543449599@tribal-fitness.com
SUMMARY:Wednesday November 28\, 2018
DESCRIPTION:Strength:\n3 sets of 5 tire flips\n3 sets of 4 atlas stone lift to shoulder  \nWOD:\nElizabeth\n21-15-9\nClean\nRing dip \n
URL:http://tribal-fitness.com/event/wednesday-november-28-2018/
CATEGORIES:WOD
END:VEVENT
END:VCALENDAR