BEGIN:VCALENDAR
VERSION:2.0
PRODID:-// - ECPv4.9.9//NONSGML v1.0//EN
CALSCALE:GREGORIAN
METHOD:PUBLISH
X-ORIGINAL-URL:http://tribal-fitness.com
X-WR-CALDESC:Events for 
BEGIN:VTIMEZONE
TZID:America/Phoenix
BEGIN:STANDARD
TZOFFSETFROM:-0700
TZOFFSETTO:-0700
TZNAME:MST
DTSTART:20190101T000000
END:STANDARD
END:VTIMEZONE
BEGIN:VEVENT
DTSTART;VALUE=DATE:20190918
DTEND;VALUE=DATE:20190919
DTSTAMP:20260424T001221
CREATED:20190916T064148Z
LAST-MODIFIED:20190916T064148Z
UID:8857-1568764800-1568851199@tribal-fitness.com
SUMMARY:Wednesday September 18\, 2019
DESCRIPTION:Strength (18:00):\nBench press – 3X5  \nWOD (18:00):\n12-9-6-3\nClean and jerk (155/105)\nBar muscle up\n16:00 time cap \n
URL:http://tribal-fitness.com/event/wednesday-september-18-2019/
CATEGORIES:WOD
END:VEVENT
END:VCALENDAR